BEGIN:VCALENDAR
VERSION:2.0
PRODID:-//hacksw/handcal//NONSGML v1.0//EN
BEGIN:VEVENT
SUMMARY:Interclubs seniors : Balmes Dauphinoises - Rives
UID:9a0ccc54-cc9c-40ec-8f4e-ceb4763c6bd2
DTSTART:20260321T130000Z
DTEND:20260321T180000Z
LOCATION:Localisation   
CATEGORIES:Sportif
STATUS:
URL;VALUE=URI:https://www.tennisclubrives.fr/evenements/2026/03/21/interclubs-seniors-balmes-dauphinoises-rives-2430216
END:VEVENT
END:VCALENDAR
