BEGIN:VCALENDAR
VERSION:2.0
PRODID:-//hacksw/handcal//NONSGML v1.0//EN
BEGIN:VEVENT
SUMMARY:Interclubs seniors : Saint-Egreve 7 - Rives 2
UID:4bcfcd3a-fb89-48a6-9363-7a559728f54a
DTSTART:20260322T080000Z
DTEND:20260322T140000Z
LOCATION:Localisation   
CATEGORIES:Sportif
STATUS:
URL;VALUE=URI:https://www.tennisclubrives.fr/evenements/2026/03/22/interclubs-seniors-saint-egreve-7-rives-2-2430219
END:VEVENT
END:VCALENDAR
