BEGIN:VCALENDAR
VERSION:2.0
PRODID:-//hacksw/handcal//NONSGML v1.0//EN
BEGIN:VEVENT
SUMMARY:Interclubs seniors : Saint-Jean-de-Moirans II - Rives
UID:bdc473ab-7778-49a4-8c20-71d17ded9506
DTSTART:20260322T080000Z
DTEND:20260322T140000Z
LOCATION:Localisation   
CATEGORIES:Sportif
STATUS:
URL;VALUE=URI:https://www.tennisclubrives.fr/evenements/2026/03/22/interclubs-seniors-saint-jean-de-moirans-ii-rives-2430217
END:VEVENT
END:VCALENDAR
